BEGIN:VCALENDAR
PRODID: -//CFLIB.ORG//iCalUS()//EN
VERSION:2.0
METHOD:REQUEST
BEGIN:VTIMEZONE
BEGIN:STANDARD
DTSTART:20061101T020000
RRULE:FREQ=YEARLY;INTERVAL=1;BYDAY=1SU;BYMONTH=11
TZOFFSETFROM:-0400
TZOFFSETTO:-0500
TZNAME:Standard Time
END:STANDARD
BEGIN:DAYLIGHT
DTSTART:20060301T020000
RRULE:FREQ=YEARLY;INTERVAL=1;BYDAY=2SU;BYMONTH=3
TZOFFSETFROM:-0500
TZOFFSETTO:-0400
TZNAME:Daylight Savings Time
END:DAYLIGHT
END:VTIMEZONE
BEGIN:VEVENT
UID:1582997352856.CFLIB.ORG
ORGANIZER;CN=:MAILTO:
DTSTAMP:20200301T042912
DTSTART;TZID=Eastern Time:20200305T123000
DTEND;TZID=Eastern Time:20200305T133000
SUMMARY:FIRST NATIONAL REAL ESTATE PORT MACQUARIE - OFI/OPEN HOME - 3 The Anchorage, PORT MACQUARIE, 2444
LOCATION:3 The Anchorage, PORT MACQUARIE, 2444
DESCRIPTION:OFI/OPEN HOME - 3 The Anchorage, PORT MACQUARIE, 2444\n\nThursday 12:30PM-1:30PM\n\nClick the link for full listing information: http://www.portmacquariefn.com.au?/property/3390661
PRIORITY:1
TRANSP:OPAQUE
CLASS:PUBLIC
BEGIN:VALARM
TRIGGER:-PT30M
ACTION:DISPLAY
DESCRIPTION:Reminder
END:VALARM
END:VEVENT
END:VCALENDAR 